BEGIN:VCALENDAR
VERSION:2.0
PRODID:-//Delphi Metaphysical Temple - ECPv6.15.20//NONSGML v1.0//EN
CALSCALE:GREGORIAN
METHOD:PUBLISH
X-ORIGINAL-URL:https://delphimetaphysicaltemple.org
X-WR-CALDESC:Events for Delphi Metaphysical Temple
REFRESH-INTERVAL;VALUE=DURATION:PT1H
X-Robots-Tag:noindex
X-PUBLISHED-TTL:PT1H
BEGIN:VTIMEZONE
TZID:UTC
BEGIN:STANDARD
TZOFFSETFROM:+0000
TZOFFSETTO:+0000
TZNAME:UTC
DTSTART:20220101T000000
END:STANDARD
END:VTIMEZONE
BEGIN:VEVENT
DTSTART;VALUE=DATE:20230815
DTEND;VALUE=DATE:20230820
DTSTAMP:20260421T150306
CREATED:20230815T040000Z
LAST-MODIFIED:20230509T012226Z
UID:97847-1692057600-1692489599@delphimetaphysicaltemple.org
SUMMARY:Youth Mission Trip
DESCRIPTION:Put your description here.
URL:https://delphimetaphysicaltemple.org/event/youth-mission-trip/
CATEGORIES:Christian Education,Youth
ATTACH;FMTTYPE=image/jpeg:https://delphimetaphysicaltemple.org/wp-content/uploads/2023/05/youth-smiling.jpg
END:VEVENT
END:VCALENDAR